
BEGIN:VCALENDAR
VERSION:2.0
PRODID:-//Village of Hatley, Wisconsin - ECPv6.2.2.1//NONSGML v1.0//EN
CALSCALE:GREGORIAN
METHOD:PUBLISH
X-WR-CALNAME:Village of Hatley, Wisconsin
X-ORIGINAL-URL:https://villageofhatley.org
X-WR-CALDESC:Events for Village of Hatley, Wisconsin
REFRESH-INTERVAL;VALUE=DURATION:PT1H
X-Robots-Tag:noindex
X-PUBLISHED-TTL:PT1H
BEGIN:VTIMEZONE
TZID:America/Chicago
BEGIN:DAYLIGHT
TZOFFSETFROM:-0600
TZOFFSETTO:-0500
TZNAME:CDT
DTSTART:20230312T080000
END:DAYLIGHT
BEGIN:STANDARD
TZOFFSETFROM:-0500
TZOFFSETTO:-0600
TZNAME:CST
DTSTART:20231105T070000
END:STANDARD
END:VTIMEZONE
BEGIN:VEVENT
DTSTART;TZID=America/Chicago:20230709T133000
DTEND;TZID=America/Chicago:20230709T133000
DTSTAMP:20260425T204131
CREATED:20230413T114354Z
LAST-MODIFIED:20230413T130658Z
UID:2408-1688909400-1688909400@villageofhatley.org
SUMMARY:Hatley Braves VS Aniwa Orioles
DESCRIPTION:
URL:https://villageofhatley.org/event/hatley-braves-vs-aniwa-orioles/
LOCATION:Pleasant Lake Park\, W19158 Lake Street\, Aniwa\, WI\, 54408\, United States
CATEGORIES:Baseball
ATTACH;FMTTYPE=image/jpeg:https://villageofhatley.org/wp-content/uploads/2017/06/baseball-signage.jpg
END:VEVENT
BEGIN:VEVENT
DTSTART;TZID=America/Chicago:20230716T133000
DTEND;TZID=America/Chicago:20230716T133000
DTSTAMP:20260425T204131
CREATED:20230413T114354Z
LAST-MODIFIED:20230413T130619Z
UID:2409-1689514200-1689514200@villageofhatley.org
SUMMARY:Wittenberg Pilots VS Hatley Braves
DESCRIPTION:
URL:https://villageofhatley.org/event/wittenberg-pilots-vs-hatley-braves/
LOCATION:Legion Memorial Park\, 222 Victoria St\, Hatley\, WI\, 54440\, United States
CATEGORIES:Baseball
ATTACH;FMTTYPE=image/jpeg:https://villageofhatley.org/wp-content/uploads/2017/06/baseball-signage.jpg
END:VEVENT
END:VCALENDAR