
BEGIN:VCALENDAR
VERSION:2.0
PRODID:-//Village of Hatley, Wisconsin - ECPv6.2.2.1//NONSGML v1.0//EN
CALSCALE:GREGORIAN
METHOD:PUBLISH
X-ORIGINAL-URL:https://villageofhatley.org
X-WR-CALDESC:Events for Village of Hatley, Wisconsin
REFRESH-INTERVAL;VALUE=DURATION:PT1H
X-Robots-Tag:noindex
X-PUBLISHED-TTL:PT1H
BEGIN:VTIMEZONE
TZID:America/Chicago
BEGIN:DAYLIGHT
TZOFFSETFROM:-0600
TZOFFSETTO:-0500
TZNAME:CDT
DTSTART:20230312T080000
END:DAYLIGHT
BEGIN:STANDARD
TZOFFSETFROM:-0500
TZOFFSETTO:-0600
TZNAME:CST
DTSTART:20231105T070000
END:STANDARD
END:VTIMEZONE
BEGIN:VEVENT
DTSTART;TZID=America/Chicago:20230325T100000
DTEND;TZID=America/Chicago:20230325T140000
DTSTAMP:20260424T205507
CREATED:20230309T021140Z
LAST-MODIFIED:20230309T021338Z
UID:2346-1679738400-1679752800@villageofhatley.org
SUMMARY:Hatley American Legion Post 471 Fundraiser
DESCRIPTION:Fundraising raffle benefitting the Hatley American Legion Post 471 \nLocation: Lisa’s Lakeside\, 214857 County Rd Y\, Hatley\, WI \n\nRaffle drawing will be held at 7:00 pm\nBucket raffles and 50-50 raffle\nFree beer\, soda with a cash bar\, and food\n\nPublic is welcome! Please come and enjoy!
URL:https://villageofhatley.org/event/hatley-american-legion-post-471-fundraiser/
LOCATION:Lisa’s Lakeside\, 214857 County Road Y\, Hatley\, WI\, 54440\, United States
CATEGORIES:Community
END:VEVENT
END:VCALENDAR