
BEGIN:VCALENDAR
VERSION:2.0
PRODID:-//Village of Hatley, Wisconsin - ECPv6.2.2.1//NONSGML v1.0//EN
CALSCALE:GREGORIAN
METHOD:PUBLISH
X-ORIGINAL-URL:https://villageofhatley.org
X-WR-CALDESC:Events for Village of Hatley, Wisconsin
REFRESH-INTERVAL;VALUE=DURATION:PT1H
X-Robots-Tag:noindex
X-PUBLISHED-TTL:PT1H
BEGIN:VTIMEZONE
TZID:America/Chicago
BEGIN:DAYLIGHT
TZOFFSETFROM:-0600
TZOFFSETTO:-0500
TZNAME:CDT
DTSTART:20230312T080000
END:DAYLIGHT
BEGIN:STANDARD
TZOFFSETFROM:-0500
TZOFFSETTO:-0600
TZNAME:CST
DTSTART:20231105T070000
END:STANDARD
END:VTIMEZONE
BEGIN:VEVENT
DTSTART;TZID=America/Chicago:20231031T160000
DTEND;TZID=America/Chicago:20231031T183000
DTSTAMP:20260424T104135
CREATED:20231011T134755Z
LAST-MODIFIED:20231011T142519Z
UID:3664-1698768000-1698777000@villageofhatley.org
SUMMARY:Trick or Treating
DESCRIPTION:4:00 p.m. to 6:30 p.m. Tuesday\, Oct. 31 \nPlease put on your outside light if you are participating in the tradition. Please be respectful of others’ property while enjoying this Halloween tradition! \nHalloween Safety Tips:\nStay in well-lighted areas • Never go out alone\nCheck all your treats • Carry a flashlight\nGo only to houses you know
URL:https://villageofhatley.org/event/trick-or-treating-3/
LOCATION:WI
CATEGORIES:Community
ATTACH;FMTTYPE=image/jpeg:https://villageofhatley.org/wp-content/uploads/2023/10/nick-fewings-oPVNGh0hzdI-unsplash-scaled.jpg
END:VEVENT
END:VCALENDAR