
BEGIN:VCALENDAR
VERSION:2.0
PRODID:-//Village of Hatley, Wisconsin - ECPv6.2.2.1//NONSGML v1.0//EN
CALSCALE:GREGORIAN
METHOD:PUBLISH
X-WR-CALNAME:Village of Hatley, Wisconsin
X-ORIGINAL-URL:https://villageofhatley.org
X-WR-CALDESC:Events for Village of Hatley, Wisconsin
REFRESH-INTERVAL;VALUE=DURATION:PT1H
X-Robots-Tag:noindex
X-PUBLISHED-TTL:PT1H
BEGIN:VTIMEZONE
TZID:America/Chicago
BEGIN:DAYLIGHT
TZOFFSETFROM:-0600
TZOFFSETTO:-0500
TZNAME:CDT
DTSTART:20240310T080000
END:DAYLIGHT
BEGIN:STANDARD
TZOFFSETFROM:-0500
TZOFFSETTO:-0600
TZNAME:CST
DTSTART:20241103T070000
END:STANDARD
END:VTIMEZONE
BEGIN:VEVENT
DTSTART;TZID=America/Chicago:20240703T150000
DTEND;TZID=America/Chicago:20240703T180000
DTSTAMP:20260420T005309
CREATED:20240418T123949Z
LAST-MODIFIED:20240418T131843Z
UID:4069-1720018800-1720029600@villageofhatley.org
SUMMARY:Hatley Farmer's Market
DESCRIPTION:Click here for more info.
URL:https://villageofhatley.org/event/hatley-farmers-market-2/
LOCATION:MCPL Hatley
CATEGORIES:Community,Food
ATTACH;FMTTYPE=image/jpeg:https://villageofhatley.org/wp-content/uploads/2024/04/inigo-de-la-maza-s285sDw5Ikc-unsplash-scaled.jpg
END:VEVENT
BEGIN:VEVENT
DTSTART;TZID=America/Chicago:20240710T150000
DTEND;TZID=America/Chicago:20240710T180000
DTSTAMP:20260420T005309
CREATED:20240418T124023Z
LAST-MODIFIED:20240418T131904Z
UID:4071-1720623600-1720634400@villageofhatley.org
SUMMARY:Hatley Farmer's Market
DESCRIPTION:Click here for more info.
URL:https://villageofhatley.org/event/hatley-farmers-market-3/
LOCATION:MCPL Hatley
CATEGORIES:Community,Food
ATTACH;FMTTYPE=image/jpeg:https://villageofhatley.org/wp-content/uploads/2024/04/inigo-de-la-maza-s285sDw5Ikc-unsplash-scaled.jpg
END:VEVENT
BEGIN:VEVENT
DTSTART;TZID=America/Chicago:20240717T150000
DTEND;TZID=America/Chicago:20240717T180000
DTSTAMP:20260420T005309
CREATED:20240418T124048Z
LAST-MODIFIED:20240418T131921Z
UID:4073-1721228400-1721239200@villageofhatley.org
SUMMARY:Hatley Farmer's Market
DESCRIPTION:Click here for more info.
URL:https://villageofhatley.org/event/hatley-farmers-market-4/
LOCATION:MCPL Hatley
CATEGORIES:Community,Food
ATTACH;FMTTYPE=image/jpeg:https://villageofhatley.org/wp-content/uploads/2024/04/inigo-de-la-maza-s285sDw5Ikc-unsplash-scaled.jpg
END:VEVENT
BEGIN:VEVENT
DTSTART;TZID=America/Chicago:20240724T150000
DTEND;TZID=America/Chicago:20240724T180000
DTSTAMP:20260420T005309
CREATED:20240418T124143Z
LAST-MODIFIED:20240418T131938Z
UID:4075-1721833200-1721844000@villageofhatley.org
SUMMARY:Hatley Farmer's Market
DESCRIPTION:Click here for more info.
URL:https://villageofhatley.org/event/hatley-farmers-market-5/
LOCATION:MCPL Hatley
CATEGORIES:Community,Food
ATTACH;FMTTYPE=image/jpeg:https://villageofhatley.org/wp-content/uploads/2024/04/inigo-de-la-maza-s285sDw5Ikc-unsplash-scaled.jpg
END:VEVENT
BEGIN:VEVENT
DTSTART;TZID=America/Chicago:20240731T150000
DTEND;TZID=America/Chicago:20240731T180000
DTSTAMP:20260420T005309
CREATED:20240418T124200Z
LAST-MODIFIED:20240418T132209Z
UID:4076-1722438000-1722448800@villageofhatley.org
SUMMARY:Hatley Farmer's Market
DESCRIPTION:Click here for more info.
URL:https://villageofhatley.org/event/hatley-farmers-market-6/
LOCATION:MCPL Hatley
CATEGORIES:Community,Food
ATTACH;FMTTYPE=image/jpeg:https://villageofhatley.org/wp-content/uploads/2024/04/inigo-de-la-maza-s285sDw5Ikc-unsplash-scaled.jpg
END:VEVENT
END:VCALENDAR