
BEGIN:VCALENDAR
VERSION:2.0
PRODID:-//Village of Hatley, Wisconsin - ECPv6.2.2.1//NONSGML v1.0//EN
CALSCALE:GREGORIAN
METHOD:PUBLISH
X-WR-CALNAME:Village of Hatley, Wisconsin
X-ORIGINAL-URL:https://villageofhatley.org
X-WR-CALDESC:Events for Village of Hatley, Wisconsin
REFRESH-INTERVAL;VALUE=DURATION:PT1H
X-Robots-Tag:noindex
X-PUBLISHED-TTL:PT1H
BEGIN:VTIMEZONE
TZID:America/Chicago
BEGIN:DAYLIGHT
TZOFFSETFROM:-0600
TZOFFSETTO:-0500
TZNAME:CDT
DTSTART:20240310T080000
END:DAYLIGHT
BEGIN:STANDARD
TZOFFSETFROM:-0500
TZOFFSETTO:-0600
TZNAME:CST
DTSTART:20241103T070000
END:STANDARD
END:VTIMEZONE
BEGIN:VEVENT
DTSTART;TZID=America/Chicago:20240921T100000
DTEND;TZID=America/Chicago:20240921T113000
DTSTAMP:20260419T232741
CREATED:20240911T123508Z
LAST-MODIFIED:20240911T123508Z
UID:4563-1726912800-1726918200@villageofhatley.org
SUMMARY:Hatley Trail Community Celebration
DESCRIPTION:Join us to celebrate the Village of Hatley as a new Ice Age Trail Community. The event will feature family-friendly activities and a chance to meet Monty the Mammoth\, the official mascot of the Ice Age Trail. This is GREAT opportunity to learn more about the Ice Age Trail. Literature will be available along with Ice Age Hikers to answer questions. Free cookies and refreshments available after the ribbon cutting! \n10:00 – 11:00am – Meet & Greet in the Hatley Library Community Room \n11:00am – Designation Ceremony & Ribbon Cutting
URL:https://villageofhatley.org/event/hatley-trail-community-celebration/
LOCATION:MCPL Hatley
CATEGORIES:Community
ATTACH;FMTTYPE=image/png:https://villageofhatley.org/wp-content/uploads/2024/09/Hatley-TC-Celebration-2024.png
END:VEVENT
END:VCALENDAR