
BEGIN:VCALENDAR
VERSION:2.0
PRODID:-//Village of Hatley, Wisconsin - ECPv6.2.2.1//NONSGML v1.0//EN
CALSCALE:GREGORIAN
METHOD:PUBLISH
X-ORIGINAL-URL:https://villageofhatley.org
X-WR-CALDESC:Events for Village of Hatley, Wisconsin
REFRESH-INTERVAL;VALUE=DURATION:PT1H
X-Robots-Tag:noindex
X-PUBLISHED-TTL:PT1H
BEGIN:VTIMEZONE
TZID:America/Chicago
BEGIN:DAYLIGHT
TZOFFSETFROM:-0600
TZOFFSETTO:-0500
TZNAME:CDT
DTSTART:20240310T080000
END:DAYLIGHT
BEGIN:STANDARD
TZOFFSETFROM:-0500
TZOFFSETTO:-0600
TZNAME:CST
DTSTART:20241103T070000
END:STANDARD
END:VTIMEZONE
BEGIN:VEVENT
DTSTART;TZID=America/Chicago:20241023T010000
DTEND;TZID=America/Chicago:20241023T120000
DTSTAMP:20260419T220811
CREATED:20231011T134626Z
LAST-MODIFIED:20240923T125903Z
UID:3662-1729645200-1729684800@villageofhatley.org
SUMMARY:Fall Clean Up
DESCRIPTION:Villagers should use this opportunity to dispose of large items including furniture & appliances. \nItems should be placed at your curb side by 6AM Wednesday\, October 23. \nOften several different trucks pick up various items\, so all your items may not be picked up at the same time. \nITEMS NOT ACCEPTED: Tires\, Refrigerators\, Freezers\, Air Conditioners\, TVs\, Computers\, Microwaves\nPlease do not put these items out!
URL:https://villageofhatley.org/event/fall-clean-up-4/
LOCATION:WI
CATEGORIES:Community
ATTACH;FMTTYPE=image/jpeg:https://villageofhatley.org/wp-content/uploads/2023/10/pawel-czerwinski-RkIsyD_AVvc-unsplash-scaled.jpg
END:VEVENT
END:VCALENDAR